BEGIN:VCALENDAR
VERSION:2.0
PRODID:-//Sparwood Chamber of Commerce - ECPv6.15.12.2//NONSGML v1.0//EN
CALSCALE:GREGORIAN
METHOD:PUBLISH
X-WR-CALNAME:Sparwood Chamber of Commerce
X-ORIGINAL-URL:https://sparwoodchamber.bc.ca
X-WR-CALDESC:Events for Sparwood Chamber of Commerce
REFRESH-INTERVAL;VALUE=DURATION:PT1H
X-Robots-Tag:noindex
X-PUBLISHED-TTL:PT1H
BEGIN:VTIMEZONE
TZID:America/Edmonton
BEGIN:DAYLIGHT
TZOFFSETFROM:-0700
TZOFFSETTO:-0600
TZNAME:MDT
DTSTART:20220313T090000
END:DAYLIGHT
BEGIN:STANDARD
TZOFFSETFROM:-0600
TZOFFSETTO:-0700
TZNAME:MST
DTSTART:20221106T080000
END:STANDARD
BEGIN:DAYLIGHT
TZOFFSETFROM:-0700
TZOFFSETTO:-0600
TZNAME:MDT
DTSTART:20230312T090000
END:DAYLIGHT
BEGIN:STANDARD
TZOFFSETFROM:-0600
TZOFFSETTO:-0700
TZNAME:MST
DTSTART:20231105T080000
END:STANDARD
BEGIN:DAYLIGHT
TZOFFSETFROM:-0700
TZOFFSETTO:-0600
TZNAME:MDT
DTSTART:20240310T090000
END:DAYLIGHT
BEGIN:STANDARD
TZOFFSETFROM:-0600
TZOFFSETTO:-0700
TZNAME:MST
DTSTART:20241103T080000
END:STANDARD
END:VTIMEZONE
BEGIN:VEVENT
DTSTART;TZID=America/Edmonton:20230901T153000
DTEND;TZID=America/Edmonton:20230901T183000
DTSTAMP:20260422T035856
CREATED:20230711T164401Z
LAST-MODIFIED:20230711T164401Z
UID:16615-1693582200-1693593000@sparwoodchamber.bc.ca
SUMMARY:
DESCRIPTION:Friday from 3:30-6:30 PM at Titan Park \nhttps://www.sparwoodmarket.com/
URL:https://sparwoodchamber.bc.ca/event/16615/
CATEGORIES:Community Events,Kiosk Event
END:VEVENT
BEGIN:VEVENT
DTSTART;VALUE=DATE:20230913
DTEND;VALUE=DATE:20230914
DTSTAMP:20260422T035856
CREATED:20230914T160255Z
LAST-MODIFIED:20230914T160255Z
UID:16669-1694563200-1694649599@sparwoodchamber.bc.ca
SUMMARY:Business Award Nominations NOW OPEN
DESCRIPTION:Nominations for Sparwood Chamber’s Business Awards is NOW OPEN! Click this link to vote NOW!!
URL:https://sparwoodchamber.bc.ca/event/business-award-nominations-now-open/
CATEGORIES:Community Events,Kiosk Event
END:VEVENT
BEGIN:VEVENT
DTSTART;TZID=America/Edmonton:20230915T150000
DTEND;TZID=America/Edmonton:20230916T160000
DTSTAMP:20260422T035856
CREATED:20230719T171546Z
LAST-MODIFIED:20230914T155930Z
UID:16627-1694790000-1694880000@sparwoodchamber.bc.ca
SUMMARY:Sparwood Chamber EXPO CANCELLED
DESCRIPTION:Unfortunately we did not have the response we expected therefore we have made the difficult decision to cancel this years EXPO. Hopefully we will have a better response for next year!
URL:https://sparwoodchamber.bc.ca/event/sparwood-chamber-expo/
CATEGORIES:Community Events,Kiosk Event
END:VEVENT
BEGIN:VEVENT
DTSTART;TZID=America/Edmonton:20230930T070000
DTEND;TZID=America/Edmonton:20230930T123000
DTSTAMP:20260422T035856
CREATED:20230823T213834Z
LAST-MODIFIED:20230823T213834Z
UID:16640-1696057200-1696077000@sparwoodchamber.bc.ca
SUMMARY:Black Gold Poker Rally
DESCRIPTION:Black Gold Poker Rally Route Info \n\n\n\nAll routes leave from Mountain Shadows Campground at 10:00am and will flow in a counter clockwise loop\, finishing at the same location as the start. Check points for collection of your bands to get your poker hand will be set along the way. Collect all checkpoints – get dealt a hand for a chance to win!\n\n\nDon’t miss your opportunity to be one of the first 50 to sign up and receive an event T-Shirt. Sign up at: https://zone4.ca/register.asp?id=32796\n\n\nMore event information can be found here
URL:https://sparwoodchamber.bc.ca/event/black-gold-poker-rally/
CATEGORIES:Community Events,Kiosk Event
END:VEVENT
END:VCALENDAR