BEGIN:VCALENDAR
VERSION:2.0
PRODID:-//Sparwood Chamber of Commerce - ECPv6.15.12.2//NONSGML v1.0//EN
CALSCALE:GREGORIAN
METHOD:PUBLISH
X-ORIGINAL-URL:https://sparwoodchamber.bc.ca
X-WR-CALDESC:Events for Sparwood Chamber of Commerce
REFRESH-INTERVAL;VALUE=DURATION:PT1H
X-Robots-Tag:noindex
X-PUBLISHED-TTL:PT1H
BEGIN:VTIMEZONE
TZID:America/Edmonton
BEGIN:DAYLIGHT
TZOFFSETFROM:-0700
TZOFFSETTO:-0600
TZNAME:MDT
DTSTART:20210314T090000
END:DAYLIGHT
BEGIN:STANDARD
TZOFFSETFROM:-0600
TZOFFSETTO:-0700
TZNAME:MST
DTSTART:20211107T080000
END:STANDARD
BEGIN:DAYLIGHT
TZOFFSETFROM:-0700
TZOFFSETTO:-0600
TZNAME:MDT
DTSTART:20220313T090000
END:DAYLIGHT
BEGIN:STANDARD
TZOFFSETFROM:-0600
TZOFFSETTO:-0700
TZNAME:MST
DTSTART:20221106T080000
END:STANDARD
BEGIN:DAYLIGHT
TZOFFSETFROM:-0700
TZOFFSETTO:-0600
TZNAME:MDT
DTSTART:20230312T090000
END:DAYLIGHT
BEGIN:STANDARD
TZOFFSETFROM:-0600
TZOFFSETTO:-0700
TZNAME:MST
DTSTART:20231105T080000
END:STANDARD
END:VTIMEZONE
BEGIN:VEVENT
DTSTART;TZID=America/Edmonton:20221003T190000
DTEND;TZID=America/Edmonton:20221003T203000
DTSTAMP:20260423T011918
CREATED:20220922T162105Z
LAST-MODIFIED:20220922T162105Z
UID:16349-1664823600-1664829000@sparwoodchamber.bc.ca
SUMMARY:Municipal Election Candidate Forum
DESCRIPTION:
URL:https://sparwoodchamber.bc.ca/event/municipal-election-candidate-forum/
END:VEVENT
BEGIN:VEVENT
DTSTART;TZID=America/Edmonton:20221020T180000
DTEND;TZID=America/Edmonton:20221020T200000
DTSTAMP:20260423T011918
CREATED:20220923T150158Z
LAST-MODIFIED:20220923T150218Z
UID:16356-1666288800-1666296000@sparwoodchamber.bc.ca
SUMMARY:Sparwood Chamber Business Awards
DESCRIPTION:
URL:https://sparwoodchamber.bc.ca/event/sparwood-chamber-business-awards/
END:VEVENT
BEGIN:VEVENT
DTSTART;TZID=America/Edmonton:20221027T130000
DTEND;TZID=America/Edmonton:20221027T170000
DTSTAMP:20260423T011918
CREATED:20221019T163904Z
LAST-MODIFIED:20221019T163904Z
UID:16395-1666875600-1666890000@sparwoodchamber.bc.ca
SUMMARY:Ktunaxa Business Showcase 2022
DESCRIPTION:Connect with Ktunaxa businesses\, entrepreneurs and artists! Shop authentic Ktunaxa products! Open to the public from 1:00pm -5:00pm at the Prestige Rocky Mountain Resort (209 Van Horne St.) Cranbrook.
URL:https://sparwoodchamber.bc.ca/event/ktunaxa-business-showcase-2022/
END:VEVENT
END:VCALENDAR