BEGIN:VCALENDAR
VERSION:2.0
PRODID:-//Sparwood Chamber of Commerce - ECPv6.15.12.2//NONSGML v1.0//EN
CALSCALE:GREGORIAN
METHOD:PUBLISH
X-ORIGINAL-URL:https://sparwoodchamber.bc.ca
X-WR-CALDESC:Events for Sparwood Chamber of Commerce
REFRESH-INTERVAL;VALUE=DURATION:PT1H
X-Robots-Tag:noindex
X-PUBLISHED-TTL:PT1H
BEGIN:VTIMEZONE
TZID:America/Edmonton
BEGIN:DAYLIGHT
TZOFFSETFROM:-0700
TZOFFSETTO:-0600
TZNAME:MDT
DTSTART:20210314T090000
END:DAYLIGHT
BEGIN:STANDARD
TZOFFSETFROM:-0600
TZOFFSETTO:-0700
TZNAME:MST
DTSTART:20211107T080000
END:STANDARD
BEGIN:DAYLIGHT
TZOFFSETFROM:-0700
TZOFFSETTO:-0600
TZNAME:MDT
DTSTART:20220313T090000
END:DAYLIGHT
BEGIN:STANDARD
TZOFFSETFROM:-0600
TZOFFSETTO:-0700
TZNAME:MST
DTSTART:20221106T080000
END:STANDARD
BEGIN:DAYLIGHT
TZOFFSETFROM:-0700
TZOFFSETTO:-0600
TZNAME:MDT
DTSTART:20230312T090000
END:DAYLIGHT
BEGIN:STANDARD
TZOFFSETFROM:-0600
TZOFFSETTO:-0700
TZNAME:MST
DTSTART:20231105T080000
END:STANDARD
END:VTIMEZONE
BEGIN:VEVENT
DTSTART;TZID=America/Edmonton:20220609T160000
DTEND;TZID=America/Edmonton:20220609T210000
DTSTAMP:20260418T071528
CREATED:20220429T201040Z
LAST-MODIFIED:20220828T192307Z
UID:15148-1654790400-1654808400@sparwoodchamber.bc.ca
SUMMARY:Sparwood Chamber Golf Tournament
DESCRIPTION:Join us for our Golf Tournament June 9th! Prizes\, Smokie Hole\, Dinner and 9 holes of golf included! Sign up today by calling us to register your team!
URL:https://sparwoodchamber.bc.ca/event/sparwood-chamber-golf-tournament/
END:VEVENT
END:VCALENDAR