BEGIN:VCALENDAR
VERSION:2.0
PRODID:-//Sparwood Chamber of Commerce - ECPv6.15.12.2//NONSGML v1.0//EN
CALSCALE:GREGORIAN
METHOD:PUBLISH
X-WR-CALNAME:Sparwood Chamber of Commerce
X-ORIGINAL-URL:https://sparwoodchamber.bc.ca
X-WR-CALDESC:Events for Sparwood Chamber of Commerce
REFRESH-INTERVAL;VALUE=DURATION:PT1H
X-Robots-Tag:noindex
X-PUBLISHED-TTL:PT1H
BEGIN:VTIMEZONE
TZID:America/Edmonton
BEGIN:DAYLIGHT
TZOFFSETFROM:-0700
TZOFFSETTO:-0600
TZNAME:MDT
DTSTART:20210314T090000
END:DAYLIGHT
BEGIN:STANDARD
TZOFFSETFROM:-0600
TZOFFSETTO:-0700
TZNAME:MST
DTSTART:20211107T080000
END:STANDARD
BEGIN:DAYLIGHT
TZOFFSETFROM:-0700
TZOFFSETTO:-0600
TZNAME:MDT
DTSTART:20220313T090000
END:DAYLIGHT
BEGIN:STANDARD
TZOFFSETFROM:-0600
TZOFFSETTO:-0700
TZNAME:MST
DTSTART:20221106T080000
END:STANDARD
BEGIN:DAYLIGHT
TZOFFSETFROM:-0700
TZOFFSETTO:-0600
TZNAME:MDT
DTSTART:20230312T090000
END:DAYLIGHT
BEGIN:STANDARD
TZOFFSETFROM:-0600
TZOFFSETTO:-0700
TZNAME:MST
DTSTART:20231105T080000
END:STANDARD
END:VTIMEZONE
BEGIN:VEVENT
DTSTART;TZID=America/Edmonton:20220224T120000
DTEND;TZID=America/Edmonton:20220224T130000
DTSTAMP:20260423T155303
CREATED:20220201T182445Z
LAST-MODIFIED:20220210T181635Z
UID:15083-1645704000-1645707600@sparwoodchamber.bc.ca
SUMMARY:Sparwood Chamber's AGM
DESCRIPTION:Please join us for our Annual General Meeting happening via Zoom again from 12pm -1 pm February 24th \nSparwood Chamber of Commerce is inviting you to a scheduled Zoom meeting. \nTopic: Sparwood Chamber AGM February 24th\nTime: Feb 24\, 2022 11:45 AM Mountain Time (US and Canada) \nJoin Zoom Meeting\nhttps://us06web.zoom.us/j/82384905619?pwd=eGpXdEtXZHlGK2pHOEpBamRTcnp3dz09 \nMeeting ID: 823 8490 5619\nPasscode: 862777 \n \n 
URL:https://sparwoodchamber.bc.ca/event/sparwood-chambers-agm/
END:VEVENT
END:VCALENDAR