BEGIN:VCALENDAR
VERSION:2.0
PRODID:-//Sparwood Chamber of Commerce - ECPv6.15.12.2//NONSGML v1.0//EN
CALSCALE:GREGORIAN
METHOD:PUBLISH
X-ORIGINAL-URL:https://sparwoodchamber.bc.ca
X-WR-CALDESC:Events for Sparwood Chamber of Commerce
REFRESH-INTERVAL;VALUE=DURATION:PT1H
X-Robots-Tag:noindex
X-PUBLISHED-TTL:PT1H
BEGIN:VTIMEZONE
TZID:America/Edmonton
BEGIN:DAYLIGHT
TZOFFSETFROM:-0700
TZOFFSETTO:-0600
TZNAME:MDT
DTSTART:20200308T090000
END:DAYLIGHT
BEGIN:STANDARD
TZOFFSETFROM:-0600
TZOFFSETTO:-0700
TZNAME:MST
DTSTART:20201101T080000
END:STANDARD
BEGIN:DAYLIGHT
TZOFFSETFROM:-0700
TZOFFSETTO:-0600
TZNAME:MDT
DTSTART:20210314T090000
END:DAYLIGHT
BEGIN:STANDARD
TZOFFSETFROM:-0600
TZOFFSETTO:-0700
TZNAME:MST
DTSTART:20211107T080000
END:STANDARD
BEGIN:DAYLIGHT
TZOFFSETFROM:-0700
TZOFFSETTO:-0600
TZNAME:MDT
DTSTART:20220313T090000
END:DAYLIGHT
BEGIN:STANDARD
TZOFFSETFROM:-0600
TZOFFSETTO:-0700
TZNAME:MST
DTSTART:20221106T080000
END:STANDARD
END:VTIMEZONE
BEGIN:VEVENT
DTSTART;TZID=America/Edmonton:20211208T160000
DTEND;TZID=America/Edmonton:20211208T200000
DTSTAMP:20260423T195412
CREATED:20211201T181808Z
LAST-MODIFIED:20211201T181808Z
UID:15055-1638979200-1638993600@sparwoodchamber.bc.ca
SUMMARY:Moonlight Madness
DESCRIPTION:
URL:https://sparwoodchamber.bc.ca/event/moonlight-madness-2/
END:VEVENT
BEGIN:VEVENT
DTSTART;VALUE=DATE:20211217
DTEND;VALUE=DATE:20211218
DTSTAMP:20260423T195412
CREATED:20211201T182210Z
LAST-MODIFIED:20211201T182210Z
UID:15057-1639699200-1639785599@sparwoodchamber.bc.ca
SUMMARY:Ugly Sweater Day!
DESCRIPTION:
URL:https://sparwoodchamber.bc.ca/event/ugly-sweater-day/
END:VEVENT
BEGIN:VEVENT
DTSTART;TZID=America/Edmonton:20211221T170000
DTEND;TZID=America/Edmonton:20211221T190000
DTSTAMP:20260423T195412
CREATED:20211201T182405Z
LAST-MODIFIED:20211201T182431Z
UID:15061-1640106000-1640113200@sparwoodchamber.bc.ca
SUMMARY:Sparwood Best Decorated!
DESCRIPTION:
URL:https://sparwoodchamber.bc.ca/event/sparwood-best-decorated/
END:VEVENT
END:VCALENDAR