BEGIN:VCALENDAR
VERSION:2.0
PRODID:-//Sparwood Chamber of Commerce - ECPv6.15.12.2//NONSGML v1.0//EN
CALSCALE:GREGORIAN
METHOD:PUBLISH
X-ORIGINAL-URL:https://sparwoodchamber.bc.ca
X-WR-CALDESC:Events for Sparwood Chamber of Commerce
REFRESH-INTERVAL;VALUE=DURATION:PT1H
X-Robots-Tag:noindex
X-PUBLISHED-TTL:PT1H
BEGIN:VTIMEZONE
TZID:America/Edmonton
BEGIN:DAYLIGHT
TZOFFSETFROM:-0700
TZOFFSETTO:-0600
TZNAME:MDT
DTSTART:20200308T090000
END:DAYLIGHT
BEGIN:STANDARD
TZOFFSETFROM:-0600
TZOFFSETTO:-0700
TZNAME:MST
DTSTART:20201101T080000
END:STANDARD
BEGIN:DAYLIGHT
TZOFFSETFROM:-0700
TZOFFSETTO:-0600
TZNAME:MDT
DTSTART:20210314T090000
END:DAYLIGHT
BEGIN:STANDARD
TZOFFSETFROM:-0600
TZOFFSETTO:-0700
TZNAME:MST
DTSTART:20211107T080000
END:STANDARD
BEGIN:DAYLIGHT
TZOFFSETFROM:-0700
TZOFFSETTO:-0600
TZNAME:MDT
DTSTART:20220313T090000
END:DAYLIGHT
BEGIN:STANDARD
TZOFFSETFROM:-0600
TZOFFSETTO:-0700
TZNAME:MST
DTSTART:20221106T080000
END:STANDARD
END:VTIMEZONE
BEGIN:VEVENT
DTSTART;TZID=America/Edmonton:20211123T080000
DTEND;TZID=America/Edmonton:20211123T170000
DTSTAMP:20260423T214413
CREATED:20211123T202840Z
LAST-MODIFIED:20211123T202840Z
UID:15043-1637654400-1637686800@sparwoodchamber.bc.ca
SUMMARY:Tree Lighting & Display of Lights
DESCRIPTION:Join Sparwood Arts Coucil\, The Sparwood Chamber of Commerce\, Sparwood Firehall & The District to light up the Centennial Christmas Tree.\nStarting at 6:50 pm Santa and the fire trucks start the parade into centennial square\, followed by hot chocolate\, bonfire and Christmas Tree lighting!
URL:https://sparwoodchamber.bc.ca/event/tree-lighting-display-of-lights/
END:VEVENT
END:VCALENDAR