BEGIN:VCALENDAR
VERSION:2.0
PRODID:-//Sparwood Chamber of Commerce - ECPv6.15.12.2//NONSGML v1.0//EN
CALSCALE:GREGORIAN
METHOD:PUBLISH
X-WR-CALNAME:Sparwood Chamber of Commerce
X-ORIGINAL-URL:https://sparwoodchamber.bc.ca
X-WR-CALDESC:Events for Sparwood Chamber of Commerce
REFRESH-INTERVAL;VALUE=DURATION:PT1H
X-Robots-Tag:noindex
X-PUBLISHED-TTL:PT1H
BEGIN:VTIMEZONE
TZID:America/Edmonton
BEGIN:DAYLIGHT
TZOFFSETFROM:-0700
TZOFFSETTO:-0600
TZNAME:MDT
DTSTART:20250309T090000
END:DAYLIGHT
BEGIN:STANDARD
TZOFFSETFROM:-0600
TZOFFSETTO:-0700
TZNAME:MST
DTSTART:20251102T080000
END:STANDARD
BEGIN:DAYLIGHT
TZOFFSETFROM:-0700
TZOFFSETTO:-0600
TZNAME:MDT
DTSTART:20260308T090000
END:DAYLIGHT
BEGIN:STANDARD
TZOFFSETFROM:-0600
TZOFFSETTO:-0700
TZNAME:MST
DTSTART:20261101T080000
END:STANDARD
BEGIN:DAYLIGHT
TZOFFSETFROM:-0700
TZOFFSETTO:-0600
TZNAME:MDT
DTSTART:20270314T090000
END:DAYLIGHT
BEGIN:STANDARD
TZOFFSETFROM:-0600
TZOFFSETTO:-0700
TZNAME:MST
DTSTART:20271107T080000
END:STANDARD
END:VTIMEZONE
BEGIN:VEVENT
DTSTART;TZID=America/Edmonton:20260520T113000
DTEND;TZID=America/Edmonton:20260520T130000
DTSTAMP:20260425T070717
CREATED:20260424T204600Z
LAST-MODIFIED:20260424T204654Z
UID:17008-1779276600-1779282000@sparwoodchamber.bc.ca
SUMMARY:Mining BBQ
DESCRIPTION:Come down and enjoy a FREE hot dog or hamburger in honor of Mining Month! \nIf your business would like to participate\, please contact the Chamber at administrator@sparwood.ca
URL:https://sparwoodchamber.bc.ca/event/mining-bbq/
LOCATION:Titan Park\, 124-126 Aspen Dr\, Sparwood\, British Columbia\, V0B 2G0\, Canada
END:VEVENT
END:VCALENDAR