BEGIN:VCALENDAR
VERSION:2.0
PRODID:-//Sparwood Chamber of Commerce - ECPv6.15.12.2//NONSGML v1.0//EN
CALSCALE:GREGORIAN
METHOD:PUBLISH
X-ORIGINAL-URL:https://sparwoodchamber.bc.ca
X-WR-CALDESC:Events for Sparwood Chamber of Commerce
REFRESH-INTERVAL;VALUE=DURATION:PT1H
X-Robots-Tag:noindex
X-PUBLISHED-TTL:PT1H
BEGIN:VTIMEZONE
TZID:America/Edmonton
BEGIN:DAYLIGHT
TZOFFSETFROM:-0700
TZOFFSETTO:-0600
TZNAME:MDT
DTSTART:20230312T090000
END:DAYLIGHT
BEGIN:STANDARD
TZOFFSETFROM:-0600
TZOFFSETTO:-0700
TZNAME:MST
DTSTART:20231105T080000
END:STANDARD
BEGIN:DAYLIGHT
TZOFFSETFROM:-0700
TZOFFSETTO:-0600
TZNAME:MDT
DTSTART:20240310T090000
END:DAYLIGHT
BEGIN:STANDARD
TZOFFSETFROM:-0600
TZOFFSETTO:-0700
TZNAME:MST
DTSTART:20241103T080000
END:STANDARD
BEGIN:DAYLIGHT
TZOFFSETFROM:-0700
TZOFFSETTO:-0600
TZNAME:MDT
DTSTART:20250309T090000
END:DAYLIGHT
BEGIN:STANDARD
TZOFFSETFROM:-0600
TZOFFSETTO:-0700
TZNAME:MST
DTSTART:20251102T080000
END:STANDARD
END:VTIMEZONE
BEGIN:VEVENT
DTSTART;TZID=America/Edmonton:20241008T183000
DTEND;TZID=America/Edmonton:20241008T203000
DTSTAMP:20260421T171247
CREATED:20240925T200441Z
LAST-MODIFIED:20240925T200514Z
UID:16959-1728412200-1728419400@sparwoodchamber.bc.ca
SUMMARY:Provincial Election Candidate Forum
DESCRIPTION:The Sparwood & District Chamber of Commerce will be hosting an all candidates forum leading up to the October 19\, 2024\, provincial election. \nThis forum will provide residents with the opportunity to hear Member of the Legislative Assembly (MLA) candidates speak on various election topics that matter to the community. Residents are invited to attend in person and to submit proposed questions in advance for their MLA candidates. The participating candidates will answer questions selected from these advance submissions during the forum. Please note that questions will not be taken from the floor during the forum. The Sparwood Chamber will invite all candidates to participate in the forum; however\, not all may be able to attend. \nWhen: October 8th\, 2024 \nWhere: Causeway Bay Hotel – Emerald Room \nSubmit your questions here \n 
URL:https://sparwoodchamber.bc.ca/event/provincial-election-candidate-forum/
END:VEVENT
BEGIN:VEVENT
DTSTART;TZID=America/Edmonton:20241023T170000
DTEND;TZID=America/Edmonton:20241023T200000
DTSTAMP:20260421T171247
CREATED:20240201T212215Z
LAST-MODIFIED:20240201T212215Z
UID:16808-1729702800-1729713600@sparwoodchamber.bc.ca
SUMMARY:Business Awards
DESCRIPTION:
URL:https://sparwoodchamber.bc.ca/event/business-awards-2/
END:VEVENT
BEGIN:VEVENT
DTSTART;TZID=America/Edmonton:20241108T200000
DTEND;TZID=America/Edmonton:20241108T213000
DTSTAMP:20260421T171247
CREATED:20241105T163059Z
LAST-MODIFIED:20241105T163059Z
UID:16988-1731096000-1731101400@sparwoodchamber.bc.ca
SUMMARY:Silver Fox Pub Trivia
DESCRIPTION:November 8th: Mixed Sitcoms Trivia \nStarts at 8:00PM  Max teams of 6  Prizes each round! \nFollowed by Karaoke at 9:30PM
URL:https://sparwoodchamber.bc.ca/event/silver-fox-pub-trivia/
CATEGORIES:Community Events,Kiosk Event
END:VEVENT
BEGIN:VEVENT
DTSTART;TZID=America/Edmonton:20241113T120000
DTEND;TZID=America/Edmonton:20241113T140000
DTSTAMP:20260421T171247
CREATED:20241107T181359Z
LAST-MODIFIED:20241107T181359Z
UID:16996-1731499200-1731506400@sparwoodchamber.bc.ca
SUMMARY:EVEI - Forestry Education Session
DESCRIPTION:Description\nJoin us and EVEI representatives at a Lunch and Learn Session with Forestry Professional and Forest Impact Recovery Program Advisor John Pumphrey. An introduction to forestry practices and what the forestry sector is in the Elk Valley\, and how this affects different user groups and businesses. \nElk Valley Economic Initiative: https://theelkvalley.ca/about \n\nDate and Time\nWednesday Nov 13\, 2024\n12:00 PM – 2:00 PM MST \n\n\nLocation\nFernie Seniors Centre\n562 3rd Ave \n\n\nFees/Admission\nFree \nComplimentary lunch buffet:\nsandwiches/wraps\, soup (vegetarian and dairy free)\, dessert\, tea or coffee
URL:https://sparwoodchamber.bc.ca/event/evei-forestry-education-session/
CATEGORIES:Community Events,Kiosk Event
END:VEVENT
BEGIN:VEVENT
DTSTART;TZID=America/Edmonton:20241122T200000
DTEND;TZID=America/Edmonton:20241122T213000
DTSTAMP:20260421T171247
CREATED:20241105T163240Z
LAST-MODIFIED:20241105T163240Z
UID:16990-1732305600-1732311000@sparwoodchamber.bc.ca
SUMMARY:Silver Fox Pub Trivia
DESCRIPTION:November 22nd: General Knowledge Trivia \nStarts at 8:00PM  Max teams of 6  Prizes each round! \nFollowed by Karaoke at 9:30PM
URL:https://sparwoodchamber.bc.ca/event/silver-fox-pub-trivia-2/
CATEGORIES:Community Events,Kiosk Event
END:VEVENT
BEGIN:VEVENT
DTSTART;TZID=America/Edmonton:20241214T180000
DTEND;TZID=America/Edmonton:20241214T233000
DTSTAMP:20260421T171247
CREATED:20240201T212325Z
LAST-MODIFIED:20241105T163338Z
UID:16810-1734199200-1734219000@sparwoodchamber.bc.ca
SUMMARY:Small Business Christmas Party
DESCRIPTION:
URL:https://sparwoodchamber.bc.ca/event/small-business-christmas-party/
END:VEVENT
END:VCALENDAR