BEGIN:VCALENDAR
VERSION:2.0
PRODID:-//Sparwood Chamber of Commerce - ECPv6.15.12.2//NONSGML v1.0//EN
CALSCALE:GREGORIAN
METHOD:PUBLISH
X-WR-CALNAME:Sparwood Chamber of Commerce
X-ORIGINAL-URL:https://sparwoodchamber.bc.ca
X-WR-CALDESC:Events for Sparwood Chamber of Commerce
REFRESH-INTERVAL;VALUE=DURATION:PT1H
X-Robots-Tag:noindex
X-PUBLISHED-TTL:PT1H
BEGIN:VTIMEZONE
TZID:America/Edmonton
BEGIN:DAYLIGHT
TZOFFSETFROM:-0700
TZOFFSETTO:-0600
TZNAME:MDT
DTSTART:20230312T090000
END:DAYLIGHT
BEGIN:STANDARD
TZOFFSETFROM:-0600
TZOFFSETTO:-0700
TZNAME:MST
DTSTART:20231105T080000
END:STANDARD
BEGIN:DAYLIGHT
TZOFFSETFROM:-0700
TZOFFSETTO:-0600
TZNAME:MDT
DTSTART:20240310T090000
END:DAYLIGHT
BEGIN:STANDARD
TZOFFSETFROM:-0600
TZOFFSETTO:-0700
TZNAME:MST
DTSTART:20241103T080000
END:STANDARD
BEGIN:DAYLIGHT
TZOFFSETFROM:-0700
TZOFFSETTO:-0600
TZNAME:MDT
DTSTART:20250309T090000
END:DAYLIGHT
BEGIN:STANDARD
TZOFFSETFROM:-0600
TZOFFSETTO:-0700
TZNAME:MST
DTSTART:20251102T080000
END:STANDARD
END:VTIMEZONE
BEGIN:VEVENT
DTSTART;TZID=America/Edmonton:20241008T183000
DTEND;TZID=America/Edmonton:20241008T203000
DTSTAMP:20260418T053556
CREATED:20240925T200441Z
LAST-MODIFIED:20240925T200514Z
UID:16959-1728412200-1728419400@sparwoodchamber.bc.ca
SUMMARY:Provincial Election Candidate Forum
DESCRIPTION:The Sparwood & District Chamber of Commerce will be hosting an all candidates forum leading up to the October 19\, 2024\, provincial election. \nThis forum will provide residents with the opportunity to hear Member of the Legislative Assembly (MLA) candidates speak on various election topics that matter to the community. Residents are invited to attend in person and to submit proposed questions in advance for their MLA candidates. The participating candidates will answer questions selected from these advance submissions during the forum. Please note that questions will not be taken from the floor during the forum. The Sparwood Chamber will invite all candidates to participate in the forum; however\, not all may be able to attend. \nWhen: October 8th\, 2024 \nWhere: Causeway Bay Hotel – Emerald Room \nSubmit your questions here \n 
URL:https://sparwoodchamber.bc.ca/event/provincial-election-candidate-forum/
END:VEVENT
END:VCALENDAR