BEGIN:VCALENDAR
VERSION:2.0
PRODID:-//Sparwood Chamber of Commerce - ECPv6.15.12.2//NONSGML v1.0//EN
CALSCALE:GREGORIAN
METHOD:PUBLISH
X-WR-CALNAME:Sparwood Chamber of Commerce
X-ORIGINAL-URL:https://sparwoodchamber.bc.ca
X-WR-CALDESC:Events for Sparwood Chamber of Commerce
REFRESH-INTERVAL;VALUE=DURATION:PT1H
X-Robots-Tag:noindex
X-PUBLISHED-TTL:PT1H
BEGIN:VTIMEZONE
TZID:America/Edmonton
BEGIN:DAYLIGHT
TZOFFSETFROM:-0700
TZOFFSETTO:-0600
TZNAME:MDT
DTSTART:20220313T090000
END:DAYLIGHT
BEGIN:STANDARD
TZOFFSETFROM:-0600
TZOFFSETTO:-0700
TZNAME:MST
DTSTART:20221106T080000
END:STANDARD
BEGIN:DAYLIGHT
TZOFFSETFROM:-0700
TZOFFSETTO:-0600
TZNAME:MDT
DTSTART:20230312T090000
END:DAYLIGHT
BEGIN:STANDARD
TZOFFSETFROM:-0600
TZOFFSETTO:-0700
TZNAME:MST
DTSTART:20231105T080000
END:STANDARD
BEGIN:DAYLIGHT
TZOFFSETFROM:-0700
TZOFFSETTO:-0600
TZNAME:MDT
DTSTART:20240310T090000
END:DAYLIGHT
BEGIN:STANDARD
TZOFFSETFROM:-0600
TZOFFSETTO:-0700
TZNAME:MST
DTSTART:20241103T080000
END:STANDARD
END:VTIMEZONE
BEGIN:VEVENT
DTSTART;TZID=America/Edmonton:20230524T163000
DTEND;TZID=America/Edmonton:20230524T190000
DTSTAMP:20260422T130037
CREATED:20230417T211102Z
LAST-MODIFIED:20230417T211102Z
UID:16554-1684945800-1684954800@sparwoodchamber.bc.ca
SUMMARY:Baldy Ridge Extension Drop-in Session
DESCRIPTION:Baldy Ridge Extension Drop-in Session\nMay 24\, 2023 4:30 p.m – 7:00 p.m \nSparwood Recreation Centre (upstairs) \nJoin us for an interactive\, family-friendly update on the Baldy Ridge Extension project at Elkview Operations. \nRefreshments Provided. \nwww.teck.com/baldyridge \n 
URL:https://sparwoodchamber.bc.ca/event/baldy-ridge-extension-drop-in-session/
END:VEVENT
END:VCALENDAR